BEGIN:VCALENDAR
VERSION:2.0
PRODID:-//Library Market//iCal Export//EN
BEGIN:VEVENT
SUMMARY:Adult Color &amp; Chat
UID:54225
DTSTAMP:20260419T172700Z
DTSTART:20260108T170000Z
DTEND:20260108T210000Z
LOCATION:Frenchtown â Dixie Branch Library, 2881 Nadeau Rd., Monroe, 
 MI 48162, United States
ROOM: Community Room
DESCRIPTION:Do you love to color? Join us for some coloring fun! Bring you
 r pencils, paint, markers or diamond painting and a fun attitude.
URL:https://monroecounty.librarycalendar.com/event/adult-color-chat-54225
END:VEVENT
END:VCALENDAR
