BEGIN:VCALENDAR
VERSION:2.0
PRODID:-//Library Market//iCal Export//EN
BEGIN:VEVENT
SUMMARY:Sterling Elementary Kindergarten round up
UID:63004
DTSTAMP:20260420T013200Z
DTSTART:20260514T203000Z
DTEND:20260514T230000Z
LOCATION:Sterling Elementary, 160 Fessner Road, Carleton, MI 48117, United
  States
ROOM: Sterling Elementary Kindergarten round up
DESCRIPTION:
URL:https://monroecounty.librarycalendar.com/event/sterling-elementary-kin
 dergarten-round-63004
END:VEVENT
END:VCALENDAR
