BEGIN:VCALENDAR
VERSION:2.0
PRODID:-//Library Market//iCal Export//EN
BEGIN:VEVENT
SUMMARY:St. Charles (Reschedule)
UID:63162
DTSTAMP:20260424T235700Z
DTSTART:20260422T160000Z
DTEND:20260422T183000Z
LOCATION:St. Charles Academy, 8125 Swan Creek Road, Newport, MI 48166, Uni
 ted States
ROOM: St. Charles (Reschedule)
DESCRIPTION:
URL:https://monroecounty.librarycalendar.com/event/st-charles-reschedule-6
 3162
END:VEVENT
END:VCALENDAR
