BEGIN:VCALENDAR
VERSION:2.0
PRODID:-//Library Market//iCal Export//EN
BEGIN:VEVENT
SUMMARY:Tai Chi
UID:63195
DTSTAMP:20260422T123400Z
DTSTART:20260819T150000Z
DTEND:20260819T160000Z
LOCATION:Ida Branch Library, 3016 Lewis Ave., Ida, MI 48140, United States
ROOM: Community Room
DESCRIPTION:This is a soft movement class designed for those who have want
 ed to try Tai Chi and those who understand the principle. This class is fo
 r everyone. Tai Chi is a form of Martial Arts that can improve balance, fl
 exibility, strength and memory. 
URL:https://monroecounty.librarycalendar.com/event/tai-chi-63195
END:VEVENT
END:VCALENDAR
