BEGIN:VCALENDAR
VERSION:2.0
PRODID:-//Library Market//iCal Export//EN
BEGIN:VEVENT
SUMMARY:Paws and Pages
UID:63254
DTSTAMP:20260422T123400Z
DTSTART:20260526T220000Z
DTEND:20260526T230000Z
LOCATION:Bedford Branch Library, 8575 Jackman Rd., Temperance, MI 48182, U
 nited States
ROOM: Children&#039;s Round Room
DESCRIPTION:Young readers are invited to drop in to practice reading out l
 oud - to a furry friend!
URL:https://monroecounty.librarycalendar.com/event/paws-and-pages-63254
END:VEVENT
END:VCALENDAR
